BEGIN:VCALENDAR
VERSION:2.0
BEGIN:VEVENT
PRODID:-//EventsAdmin//EN
UID:b17682dd-e25d-4a17-af45-0652c3592749@eventsadmin.com
DTSTAMP:20260423T142609Z
TRANSP:TRANSPARENT
DTSTART:20260617T090000
DTEND:20260617T180000
SUMMARY;ENCODING=QUOTED-PRINTABLE:4o Hydrogen & Green Gases Forum
LOCATION;ENCODING=QUOTED-PRINTABLE:Wyndham Grand Athens
DESCRIPTION;ENCODING=QUOTED-PRINTABLE:Στις 17 Ιουνίου 2026 θα πραγματοποιηθεί το 4o Hydrogen &amp; Green Gases Forum του energypress=0D=0AΣε μια κρίσιμη καμπή για τους τομείς του υδρογόνου και των πράσινων αερίων, τόσο σε ευρωπαϊκό, όσο και σε εθνικό επίπεδο, το energypress οργανώνει για τρίτη χρονιά το συνέδριο Hydrogen &amp; Green Gases Forum στις 17 Ιουνίου 2026, στο ξενοδοχείο Wyndham Grand Athens.=0D=0AΗ Ευρωπαϊκή πολιτική για το υδρογόνο, το βιομεθάνιο και εν γένει τα ανανεώσιμα αέρια, αλλά και η ίδια η επενδυτική δραστηριότητα στον κλάδο, παίρ
END:VEVENT
END:VCALENDAR
